BEGIN:VCALENDAR
VERSION:2.0
PRODID:-//OTLV-Mattsee - ECPv6.15.20//NONSGML v1.0//EN
CALSCALE:GREGORIAN
METHOD:PUBLISH
X-ORIGINAL-URL:https://otlv.at
X-WR-CALDESC:Veranstaltungen für OTLV-Mattsee
REFRESH-INTERVAL;VALUE=DURATION:PT1H
X-Robots-Tag:noindex
X-PUBLISHED-TTL:PT1H
BEGIN:VTIMEZONE
TZID:Europe/Vienna
BEGIN:DAYLIGHT
TZOFFSETFROM:+0100
TZOFFSETTO:+0200
TZNAME:CEST
DTSTART:20250330T010000
END:DAYLIGHT
BEGIN:STANDARD
TZOFFSETFROM:+0200
TZOFFSETTO:+0100
TZNAME:CET
DTSTART:20251026T010000
END:STANDARD
BEGIN:DAYLIGHT
TZOFFSETFROM:+0100
TZOFFSETTO:+0200
TZNAME:CEST
DTSTART:20260329T010000
END:DAYLIGHT
BEGIN:STANDARD
TZOFFSETFROM:+0200
TZOFFSETTO:+0100
TZNAME:CET
DTSTART:20261025T010000
END:STANDARD
BEGIN:DAYLIGHT
TZOFFSETFROM:+0100
TZOFFSETTO:+0200
TZNAME:CEST
DTSTART:20270328T010000
END:DAYLIGHT
BEGIN:STANDARD
TZOFFSETFROM:+0200
TZOFFSETTO:+0100
TZNAME:CET
DTSTART:20271031T010000
END:STANDARD
END:VTIMEZONE
BEGIN:VEVENT
DTSTART;TZID=Europe/Vienna:20260426T093000
DTEND;TZID=Europe/Vienna:20260426T140000
DTSTAMP:20260424T103938
CREATED:20260411T183950Z
LAST-MODIFIED:20260411T183950Z
UID:5634-1777195800-1777212000@otlv.at
SUMMARY:Odtimertreffen in Perwang
DESCRIPTION:der Oldtimerverein Perwang veranstaltet wieder seinen Frühschoppen . Wir treffen uns beim Fahrtraum in Mattsee und fahren gemeinsam weiter nach Perwang. \n 
URL:https://otlv.at/veranstaltung/odtimertreffen-in-perwang/
LOCATION:Feuerwehr Zeugstätte Perwang
END:VEVENT
END:VCALENDAR