BEGIN:VCALENDAR
VERSION:2.0
PRODID:-//OTLV-Mattsee - ECPv6.15.20//NONSGML v1.0//EN
CALSCALE:GREGORIAN
METHOD:PUBLISH
X-WR-CALNAME:OTLV-Mattsee
X-ORIGINAL-URL:https://otlv.at
X-WR-CALDESC:Veranstaltungen für OTLV-Mattsee
REFRESH-INTERVAL;VALUE=DURATION:PT1H
X-Robots-Tag:noindex
X-PUBLISHED-TTL:PT1H
BEGIN:VTIMEZONE
TZID:Europe/Vienna
BEGIN:DAYLIGHT
TZOFFSETFROM:+0100
TZOFFSETTO:+0200
TZNAME:CEST
DTSTART:20250330T010000
END:DAYLIGHT
BEGIN:STANDARD
TZOFFSETFROM:+0200
TZOFFSETTO:+0100
TZNAME:CET
DTSTART:20251026T010000
END:STANDARD
BEGIN:DAYLIGHT
TZOFFSETFROM:+0100
TZOFFSETTO:+0200
TZNAME:CEST
DTSTART:20260329T010000
END:DAYLIGHT
BEGIN:STANDARD
TZOFFSETFROM:+0200
TZOFFSETTO:+0100
TZNAME:CET
DTSTART:20261025T010000
END:STANDARD
BEGIN:DAYLIGHT
TZOFFSETFROM:+0100
TZOFFSETTO:+0200
TZNAME:CEST
DTSTART:20270328T010000
END:DAYLIGHT
BEGIN:STANDARD
TZOFFSETFROM:+0200
TZOFFSETTO:+0100
TZNAME:CET
DTSTART:20271031T010000
END:STANDARD
END:VTIMEZONE
BEGIN:VEVENT
DTSTART;TZID=Europe/Vienna:20260418T083000
DTEND;TZID=Europe/Vienna:20260418T140000
DTSTAMP:20260424T123533
CREATED:20260411T165628Z
LAST-MODIFIED:20260411T184137Z
UID:5613-1776501000-1776520800@otlv.at
SUMMARY:Frühlingsausfahrt
DESCRIPTION:Unsere Frühlingsausfahrt geht zur Firma Stockinger-Stallbauten anschließend fahren wir weiter nach Berndorf zum Neuwirt. Bei Schlechtwetter fahren wir mit den PKW’s. \nTreffpunkt: Fahrtraum Mattsee
URL:https://otlv.at/veranstaltung/fruehlingsausfahrt/
ORGANIZER;CN="OTLV-Mattsee":MAILTO:office@otlv.at
END:VEVENT
END:VCALENDAR